Package: BiRewire Version: 3.39.0 Command: /Library/Frameworks/R.framework/Resources/bin/R CMD INSTALL BiRewire StartedAt: 2025-02-04 15:02:07 -0500 (Tue, 04 Feb 2025) EndedAt: 2025-02-04 15:02:12 -0500 (Tue, 04 Feb 2025) EllapsedTime: 4.8 seconds RetCode: 0 Status: OK