Package: BiRewire Version: 3.39.0 Command: /home/biocbuild/R/R/bin/R CMD build --keep-empty-dirs --no-resave-data BiRewire StartedAt: 2025-01-28 21:22:28 -0000 (Tue, 28 Jan 2025) EndedAt: 2025-01-28 21:24:07 -0000 (Tue, 28 Jan 2025) EllapsedTime: 99.0 seconds RetCode: 0 Status: OK PackageFile: BiRewire_3.39.0.tar.gz PackageFileSize: 719.3 KiB