Package: BiRewire Version: 3.39.0 Command: /home/biocbuild/R/R/bin/R CMD check --install=check:BiRewire.install-out.txt --library=/home/biocbuild/R/R/site-library --no-vignettes --timings BiRewire_3.39.0.tar.gz StartedAt: 2025-01-28 08:30:02 -0000 (Tue, 28 Jan 2025) EndedAt: 2025-01-28 08:49:42 -0000 (Tue, 28 Jan 2025) EllapsedTime: 1180.4 seconds RetCode: 0 Status: WARNINGS CheckDir: BiRewire.Rcheck Warnings: 1