Package: BiRewire Version: 3.39.0 Command: /home/biocbuild/R/R/bin/R CMD INSTALL BiRewire StartedAt: 2025-01-29 19:32:06 -0000 (Wed, 29 Jan 2025) EndedAt: 2025-01-29 19:32:26 -0000 (Wed, 29 Jan 2025) EllapsedTime: 20.1 seconds RetCode: 0 Status: OK