Package: BiRewire Version: 3.39.0 Command: /Library/Frameworks/R.framework/Resources/bin/R CMD build --keep-empty-dirs --no-resave-data BiRewire StartedAt: 2025-02-04 16:02:46 -0500 (Tue, 04 Feb 2025) EndedAt: 2025-02-04 16:03:39 -0500 (Tue, 04 Feb 2025) EllapsedTime: 53.5 seconds RetCode: 0 Status: OK PackageFile: BiRewire_3.39.0.tar.gz PackageFileSize: 725.8 KiB