Package: BiRewire Version: 3.39.0 Command: chmod a+r BiRewire -R && E:\biocbuild\bbs-3.21-bioc\R\bin\R.exe CMD build --keep-empty-dirs --no-resave-data BiRewire StartedAt: 2025-02-04 17:30:36 -0500 (Tue, 04 Feb 2025) EndedAt: 2025-02-04 17:31:41 -0500 (Tue, 04 Feb 2025) EllapsedTime: 65.3 seconds RetCode: 0 Status: OK PackageFile: BiRewire_3.39.0.tar.gz PackageFileSize: 606.2 KiB