Package: BiRewire Version: 3.39.0 Command: E:\biocbuild\bbs-3.21-bioc\R\bin\R.exe CMD check --no-multiarch --install=check:BiRewire.install-out.txt --library=E:\biocbuild\bbs-3.21-bioc\R\library --no-vignettes --timings BiRewire_3.39.0.tar.gz StartedAt: 2025-02-04 23:35:08 -0500 (Tue, 04 Feb 2025) EndedAt: 2025-02-04 23:38:29 -0500 (Tue, 04 Feb 2025) EllapsedTime: 200.8 seconds RetCode: 0 Status: WARNINGS CheckDir: BiRewire.Rcheck Warnings: 1