Package: BiRewire Version: 3.39.0 Command: E:\biocbuild\bbs-3.21-bioc\R\bin\R.exe CMD INSTALL BiRewire StartedAt: 2025-02-09 15:21:06 -0500 (Sun, 09 Feb 2025) EndedAt: 2025-02-09 15:21:26 -0500 (Sun, 09 Feb 2025) EllapsedTime: 19.9 seconds RetCode: 0 Status: OK