Package: BiSeq Version: 1.47.0 Command: rm -rf BiSeq.buildbin-libdir && mkdir BiSeq.buildbin-libdir && /Users/biocbuild/BBS/utils/build-universal.sh BiSeq_1.47.0.tar.gz /Library/Frameworks/R.framework/Resources/bin/R BiSeq.buildbin-libdir StartedAt: 2025-02-05 22:12:35 -0500 (Wed, 05 Feb 2025) EndedAt: 2025-02-05 22:12:54 -0500 (Wed, 05 Feb 2025) EllapsedTime: 18.4 seconds RetCode: 0 Status: OK PackageFile: BiSeq_1.47.0.tgz PackageFileSize: 1.159 MiB