Package: BiSeq Version: 1.47.0 Command: /Library/Frameworks/R.framework/Resources/bin/R CMD build --keep-empty-dirs --no-resave-data BiSeq StartedAt: 2025-02-05 15:44:47 -0500 (Wed, 05 Feb 2025) EndedAt: 2025-02-05 15:45:29 -0500 (Wed, 05 Feb 2025) EllapsedTime: 41.4 seconds RetCode: 0 Status: OK PackageFile: BiSeq_1.47.0.tar.gz PackageFileSize: 915.4 KiB