Package: BiSeq Version: 1.47.0 Command: /Library/Frameworks/R.framework/Resources/bin/R CMD INSTALL BiSeq StartedAt: 2025-02-05 15:21:58 -0500 (Wed, 05 Feb 2025) EndedAt: 2025-02-05 15:22:14 -0500 (Wed, 05 Feb 2025) EllapsedTime: 16.1 seconds RetCode: 0 Status: OK