Package: BiSeq Version: 1.47.0 Command: /home/biocbuild/R/R/bin/R CMD check --install=check:BiSeq.install-out.txt --library=/home/biocbuild/R/R/site-library --no-vignettes --timings BiSeq_1.47.0.tar.gz StartedAt: 2025-01-28 08:30:03 -0000 (Tue, 28 Jan 2025) EndedAt: 2025-01-28 08:53:13 -0000 (Tue, 28 Jan 2025) EllapsedTime: 1390.0 seconds RetCode: 0 Status: OK CheckDir: BiSeq.Rcheck Warnings: 0