Package: BiSeq Version: 1.47.0 Command: /home/biocbuild/R/R/bin/R CMD INSTALL BiSeq StartedAt: 2025-01-29 20:21:10 -0000 (Wed, 29 Jan 2025) EndedAt: 2025-01-29 20:22:08 -0000 (Wed, 29 Jan 2025) EllapsedTime: 58.2 seconds RetCode: 0 Status: OK