Package: BiSeq Version: 1.47.0 Command: rm -rf BiSeq.buildbin-libdir && mkdir BiSeq.buildbin-libdir && /Users/biocbuild/BBS/utils/build-universal.sh BiSeq_1.47.0.tar.gz /Library/Frameworks/R.framework/Resources/bin/R BiSeq.buildbin-libdir StartedAt: 2025-02-06 00:21:11 -0500 (Thu, 06 Feb 2025) EndedAt: 2025-02-06 00:22:10 -0500 (Thu, 06 Feb 2025) EllapsedTime: 58.9 seconds RetCode: 0 Status: OK PackageFile: BiSeq_1.47.0.tgz PackageFileSize: 1.158 MiB