Package: BiSeq Version: 1.47.0 Command: /Library/Frameworks/R.framework/Resources/bin/R CMD build --keep-empty-dirs --no-resave-data BiSeq StartedAt: 2025-02-05 16:02:55 -0500 (Wed, 05 Feb 2025) EndedAt: 2025-02-05 16:04:48 -0500 (Wed, 05 Feb 2025) EllapsedTime: 113.0 seconds RetCode: 0 Status: OK PackageFile: BiSeq_1.47.0.tar.gz PackageFileSize: 915.4 KiB