Package: BiSeq Version: 1.47.0 Command: /home/biocbuild/bbs-3.21-bioc/R/bin/R CMD INSTALL BiSeq StartedAt: 2025-02-05 15:28:26 -0500 (Wed, 05 Feb 2025) EndedAt: 2025-02-05 15:29:08 -0500 (Wed, 05 Feb 2025) EllapsedTime: 41.6 seconds RetCode: 0 Status: OK