Package: BiSeq Version: 1.47.0 Command: rm -rf BiSeq.buildbin-libdir && mkdir BiSeq.buildbin-libdir && E:\biocbuild\bbs-3.21-bioc\R\bin\R.exe CMD INSTALL --build --library=BiSeq.buildbin-libdir BiSeq_1.47.0.tar.gz StartedAt: 2025-02-06 07:37:26 -0500 (Thu, 06 Feb 2025) EndedAt: 2025-02-06 07:39:02 -0500 (Thu, 06 Feb 2025) EllapsedTime: 95.3 seconds RetCode: 0 Status: OK PackageFile: BiSeq_1.47.0.zip PackageFileSize: 1.164 MiB