Package: BiSeq Version: 1.47.0 Command: chmod a+r BiSeq -R && E:\biocbuild\bbs-3.21-bioc\R\bin\R.exe CMD build --keep-empty-dirs --no-resave-data BiSeq StartedAt: 2025-02-05 17:38:15 -0500 (Wed, 05 Feb 2025) EndedAt: 2025-02-05 17:40:51 -0500 (Wed, 05 Feb 2025) EllapsedTime: 155.9 seconds RetCode: 0 Status: OK PackageFile: BiSeq_1.47.0.tar.gz PackageFileSize: 918 KiB