Package: BiSeq Version: 1.47.0 Command: E:\biocbuild\bbs-3.21-bioc\R\bin\R.exe CMD check --no-multiarch --install=check:BiSeq.install-out.txt --library=E:\biocbuild\bbs-3.21-bioc\R\library --no-vignettes --timings BiSeq_1.47.0.tar.gz StartedAt: 2025-02-05 23:39:49 -0500 (Wed, 05 Feb 2025) EndedAt: 2025-02-05 23:46:15 -0500 (Wed, 05 Feb 2025) EllapsedTime: 386.0 seconds RetCode: 0 Status: OK CheckDir: BiSeq.Rcheck Warnings: 0