Package: BiSeq Version: 1.47.0 Command: E:\biocbuild\bbs-3.21-bioc\R\bin\R.exe CMD INSTALL BiSeq StartedAt: 2025-02-05 16:40:38 -0500 (Wed, 05 Feb 2025) EndedAt: 2025-02-05 16:41:44 -0500 (Wed, 05 Feb 2025) EllapsedTime: 66.3 seconds RetCode: 0 Status: OK