Package: BicARE Version: 1.65.0 Command: /home/biocbuild/R/R/bin/R CMD build --keep-empty-dirs --no-resave-data BicARE StartedAt: 2025-01-29 21:10:19 -0000 (Wed, 29 Jan 2025) EndedAt: 2025-01-29 21:13:34 -0000 (Wed, 29 Jan 2025) EllapsedTime: 194.1 seconds RetCode: 0 Status: OK PackageFile: BicARE_1.65.0.tar.gz PackageFileSize: 456.3 KiB