Package: BicARE Version: 1.65.0 Command: /home/biocbuild/R/R/bin/R CMD check --install=check:BicARE.install-out.txt --library=/home/biocbuild/R/R/site-library --no-vignettes --timings BicARE_1.65.0.tar.gz StartedAt: 2025-01-28 03:49:04 -0000 (Tue, 28 Jan 2025) EndedAt: 2025-01-28 03:53:57 -0000 (Tue, 28 Jan 2025) EllapsedTime: 293.4 seconds RetCode: 0 Status: OK CheckDir: BicARE.Rcheck Warnings: 0