Package: BicARE Version: 1.65.0 Command: /Library/Frameworks/R.framework/Resources/bin/R CMD build --keep-empty-dirs --no-resave-data BicARE StartedAt: 2025-02-09 16:00:43 -0500 (Sun, 09 Feb 2025) EndedAt: 2025-02-09 16:03:08 -0500 (Sun, 09 Feb 2025) EllapsedTime: 145.1 seconds RetCode: 0 Status: OK PackageFile: BicARE_1.65.0.tar.gz PackageFileSize: 459.7 KiB