Package: BicARE Version: 1.65.0 Command: /home/biocbuild/bbs-3.21-bioc/R/bin/R CMD build --keep-empty-dirs --no-resave-data BicARE StartedAt: 2025-02-09 16:19:19 -0500 (Sun, 09 Feb 2025) EndedAt: 2025-02-09 16:21:28 -0500 (Sun, 09 Feb 2025) EllapsedTime: 129.1 seconds RetCode: 0 Status: OK PackageFile: BicARE_1.65.0.tar.gz PackageFileSize: 460.2 KiB