Package: BicARE Version: 1.65.0 Command: /home/biocbuild/bbs-3.21-bioc/R/bin/R CMD check --install=check:BicARE.install-out.txt --library=/home/biocbuild/bbs-3.21-bioc/R/site-library --timings BicARE_1.65.0.tar.gz StartedAt: 2025-02-09 20:19:47 -0500 (Sun, 09 Feb 2025) EndedAt: 2025-02-09 20:23:54 -0500 (Sun, 09 Feb 2025) EllapsedTime: 247.3 seconds RetCode: 0 Status: OK CheckDir: BicARE.Rcheck Warnings: 0