Package: BicARE Version: 1.65.0 Command: rm -rf BicARE.buildbin-libdir && mkdir BicARE.buildbin-libdir && E:\biocbuild\bbs-3.21-bioc\R\bin\R.exe CMD INSTALL --build --library=BicARE.buildbin-libdir BicARE_1.65.0.tar.gz StartedAt: 2025-02-05 07:29:22 -0500 (Wed, 05 Feb 2025) EndedAt: 2025-02-05 07:29:51 -0500 (Wed, 05 Feb 2025) EllapsedTime: 29.2 seconds RetCode: 0 Status: OK PackageFile: BicARE_1.65.0.zip PackageFileSize: 384.5 KiB