Package: BicARE Version: 1.65.0 Command: chmod a+r BicARE -R && E:\biocbuild\bbs-3.21-bioc\R\bin\R.exe CMD build --keep-empty-dirs --no-resave-data BicARE StartedAt: 2025-02-04 17:22:11 -0500 (Tue, 04 Feb 2025) EndedAt: 2025-02-04 17:25:30 -0500 (Tue, 04 Feb 2025) EllapsedTime: 198.8 seconds RetCode: 0 Status: OK PackageFile: BicARE_1.65.0.tar.gz PackageFileSize: 331.2 KiB