Package: BicARE Version: 1.65.0 Command: E:\biocbuild\bbs-3.21-bioc\R\bin\R.exe CMD INSTALL BicARE StartedAt: 2025-02-04 16:35:16 -0500 (Tue, 04 Feb 2025) EndedAt: 2025-02-04 16:35:44 -0500 (Tue, 04 Feb 2025) EllapsedTime: 28.4 seconds RetCode: 0 Status: OK