Package: BindingSiteFinder Version: 2.5.2 Command: rm -rf BindingSiteFinder.buildbin-libdir && mkdir BindingSiteFinder.buildbin-libdir && /Users/biocbuild/BBS/utils/build-universal.sh BindingSiteFinder_2.5.2.tar.gz /Library/Frameworks/R.framework/Resources/bin/R BindingSiteFinder.buildbin-libdir StartedAt: 2025-02-04 22:08:56 -0500 (Tue, 04 Feb 2025) EndedAt: 2025-02-04 22:09:16 -0500 (Tue, 04 Feb 2025) EllapsedTime: 19.5 seconds RetCode: 0 Status: OK PackageFile: BindingSiteFinder_2.5.2.tgz PackageFileSize: 3.238 MiB