Package: BindingSiteFinder Version: 2.5.2 Command: /Library/Frameworks/R.framework/Resources/bin/R CMD build --keep-empty-dirs --no-resave-data BindingSiteFinder StartedAt: 2025-02-12 15:59:42 -0500 (Wed, 12 Feb 2025) EndedAt: 2025-02-12 16:02:35 -0500 (Wed, 12 Feb 2025) EllapsedTime: 173.7 seconds RetCode: 0 Status: OK PackageFile: BindingSiteFinder_2.5.2.tar.gz PackageFileSize: 2.837 MiB