Package: BindingSiteFinder Version: 2.5.2 Command: /Library/Frameworks/R.framework/Resources/bin/R CMD check --install=check:BindingSiteFinder.install-out.txt --library=/Library/Frameworks/R.framework/Resources/library --no-vignettes --timings BindingSiteFinder_2.5.2.tar.gz StartedAt: 2025-02-12 19:06:59 -0500 (Wed, 12 Feb 2025) EndedAt: 2025-02-12 19:25:06 -0500 (Wed, 12 Feb 2025) EllapsedTime: 1087.3 seconds RetCode: 0 Status: OK CheckDir: BindingSiteFinder.Rcheck Warnings: 0