Package: BindingSiteFinder Version: 2.5.2 Command: /home/biocbuild/bbs-3.21-bioc/R/bin/R CMD build --keep-empty-dirs --no-resave-data BindingSiteFinder StartedAt: 2025-02-04 16:18:04 -0500 (Tue, 04 Feb 2025) EndedAt: 2025-02-04 16:20:45 -0500 (Tue, 04 Feb 2025) EllapsedTime: 161.3 seconds RetCode: 0 Status: OK PackageFile: BindingSiteFinder_2.5.2.tar.gz PackageFileSize: 2.668 MiB