Package: BindingSiteFinder Version: 2.5.2 Command: /home/biocbuild/bbs-3.21-bioc/R/bin/R CMD check --install=check:BindingSiteFinder.install-out.txt --library=/home/biocbuild/bbs-3.21-bioc/R/site-library --timings BindingSiteFinder_2.5.2.tar.gz StartedAt: 2025-02-04 20:18:04 -0500 (Tue, 04 Feb 2025) EndedAt: 2025-02-04 20:33:50 -0500 (Tue, 04 Feb 2025) EllapsedTime: 945.8 seconds RetCode: 0 Status: OK CheckDir: BindingSiteFinder.Rcheck Warnings: 0