Package: BindingSiteFinder Version: 2.5.2 Command: E:\biocbuild\bbs-3.21-bioc\R\bin\R.exe CMD check --no-multiarch --install=check:BindingSiteFinder.install-out.txt --library=E:\biocbuild\bbs-3.21-bioc\R\library --no-vignettes --timings BindingSiteFinder_2.5.2.tar.gz StartedAt: 2025-02-04 23:21:53 -0500 (Tue, 04 Feb 2025) EndedAt: 2025-02-04 23:47:05 -0500 (Tue, 04 Feb 2025) EllapsedTime: 1512.4 seconds RetCode: 0 Status: OK CheckDir: BindingSiteFinder.Rcheck Warnings: 0