Package: BioCartaImage Version: 1.5.0 Command: /Library/Frameworks/R.framework/Resources/bin/R CMD INSTALL BioCartaImage StartedAt: 2025-02-12 15:04:54 -0500 (Wed, 12 Feb 2025) EndedAt: 2025-02-12 15:05:13 -0500 (Wed, 12 Feb 2025) EllapsedTime: 18.9 seconds RetCode: 0 Status: OK