Package: BioCor Version: 1.31.0 Command: /home/biocbuild/R/R/bin/R CMD check --install=check:BioCor.install-out.txt --library=/home/biocbuild/R/R/site-library --no-vignettes --timings BioCor_1.31.0.tar.gz StartedAt: 2025-01-28 03:53:57 -0000 (Tue, 28 Jan 2025) EndedAt: 2025-01-28 08:30:00 -0000 (Tue, 28 Jan 2025) EllapsedTime: 16562.6 seconds RetCode: None Status: TIMEOUT CheckDir: BioCor.Rcheck Warnings: NA