Package: BioCor Version: 1.31.0 Command: /home/biocbuild/R/R/bin/R CMD INSTALL BioCor StartedAt: 2025-01-29 19:52:24 -0000 (Wed, 29 Jan 2025) EndedAt: 2025-01-29 19:52:51 -0000 (Wed, 29 Jan 2025) EllapsedTime: 27.1 seconds RetCode: 0 Status: OK