Package: BioCor Version: 1.31.0 Command: /home/biocbuild/bbs-3.21-bioc/R/bin/R CMD check --install=check:BioCor.install-out.txt --library=/home/biocbuild/bbs-3.21-bioc/R/site-library --timings BioCor_1.31.0.tar.gz StartedAt: 2025-02-09 20:24:06 -0500 (Sun, 09 Feb 2025) EndedAt: 2025-02-09 20:31:05 -0500 (Sun, 09 Feb 2025) EllapsedTime: 418.8 seconds RetCode: 0 Status: OK CheckDir: BioCor.Rcheck Warnings: 0