Package: BioMVCClass Version: 1.75.0 Command: /Library/Frameworks/R.framework/Resources/bin/R CMD INSTALL BioMVCClass StartedAt: 2025-02-04 15:03:16 -0500 (Tue, 04 Feb 2025) EndedAt: 2025-02-04 15:03:24 -0500 (Tue, 04 Feb 2025) EllapsedTime: 8.9 seconds RetCode: 0 Status: OK