Package: BioMVCClass Version: 1.75.0 Command: /Library/Frameworks/R.framework/Resources/bin/R CMD check --install=check:BioMVCClass.install-out.txt --library=/Library/Frameworks/R.framework/Resources/library --no-vignettes --timings BioMVCClass_1.75.0.tar.gz StartedAt: 2025-02-04 19:11:39 -0500 (Tue, 04 Feb 2025) EndedAt: 2025-02-04 19:12:23 -0500 (Tue, 04 Feb 2025) EllapsedTime: 44.6 seconds RetCode: 0 Status: OK CheckDir: BioMVCClass.Rcheck Warnings: 0