Package: BioMVCClass Version: 1.75.0 Command: /Library/Frameworks/R.framework/Resources/bin/R CMD INSTALL BioMVCClass StartedAt: 2025-02-09 15:08:50 -0500 (Sun, 09 Feb 2025) EndedAt: 2025-02-09 15:09:17 -0500 (Sun, 09 Feb 2025) EllapsedTime: 26.6 seconds RetCode: 0 Status: OK