Package: BioMVCClass Version: 1.75.0 Command: rm -rf BioMVCClass.buildbin-libdir && mkdir BioMVCClass.buildbin-libdir && E:\biocbuild\bbs-3.21-bioc\R\bin\R.exe CMD INSTALL --build --library=BioMVCClass.buildbin-libdir BioMVCClass_1.75.0.tar.gz StartedAt: 2025-02-10 07:19:18 -0500 (Mon, 10 Feb 2025) EndedAt: 2025-02-10 07:20:01 -0500 (Mon, 10 Feb 2025) EllapsedTime: 42.8 seconds RetCode: 0 Status: OK PackageFile: BioMVCClass_1.75.0.zip PackageFileSize: 148.2 KiB