Package: BioMVCClass Version: 1.75.0 Command: E:\biocbuild\bbs-3.21-bioc\R\bin\R.exe CMD check --no-multiarch --install=check:BioMVCClass.install-out.txt --library=E:\biocbuild\bbs-3.21-bioc\R\library --no-vignettes --timings BioMVCClass_1.75.0.tar.gz StartedAt: 2025-02-04 23:31:42 -0500 (Tue, 04 Feb 2025) EndedAt: 2025-02-04 23:32:21 -0500 (Tue, 04 Feb 2025) EllapsedTime: 39.3 seconds RetCode: 0 Status: OK CheckDir: BioMVCClass.Rcheck Warnings: 0