Package: BioMVCClass Version: 1.75.0 Command: E:\biocbuild\bbs-3.21-bioc\R\bin\R.exe CMD INSTALL BioMVCClass StartedAt: 2025-02-04 15:45:02 -0500 (Tue, 04 Feb 2025) EndedAt: 2025-02-04 15:45:38 -0500 (Tue, 04 Feb 2025) EllapsedTime: 36.3 seconds RetCode: 0 Status: OK