Package: BioNAR Version: 1.9.1 Command: /Library/Frameworks/R.framework/Resources/bin/R CMD build --keep-empty-dirs --no-resave-data BioNAR StartedAt: 2025-02-09 15:42:19 -0500 (Sun, 09 Feb 2025) EndedAt: 2025-02-09 15:43:12 -0500 (Sun, 09 Feb 2025) EllapsedTime: 52.5 seconds RetCode: 0 Status: OK PackageFile: BioNAR_1.9.1.tar.gz PackageFileSize: 3.569 MiB