Package: BioNAR Version: 1.9.1 Command: /Library/Frameworks/R.framework/Resources/bin/R CMD INSTALL BioNAR StartedAt: 2025-02-09 15:19:41 -0500 (Sun, 09 Feb 2025) EndedAt: 2025-02-09 15:19:50 -0500 (Sun, 09 Feb 2025) EllapsedTime: 9.1 seconds RetCode: 0 Status: OK