Package: BioNAR Version: 1.9.1 Command: /home/biocbuild/R/R/bin/R CMD build --keep-empty-dirs --no-resave-data BioNAR StartedAt: 2025-01-28 21:19:15 -0000 (Tue, 28 Jan 2025) EndedAt: 2025-01-28 21:20:00 -0000 (Tue, 28 Jan 2025) EllapsedTime: 45.0 seconds RetCode: 1 Status: ERROR PackageFile: None PackageFileSize: NA