Package: BioNAR Version: 1.9.1 Command: rm -rf BioNAR.buildbin-libdir && mkdir BioNAR.buildbin-libdir && /Users/biocbuild/BBS/utils/build-universal.sh BioNAR_1.9.1.tar.gz /Library/Frameworks/R.framework/Resources/bin/R BioNAR.buildbin-libdir StartedAt: 2025-02-10 00:44:10 -0500 (Mon, 10 Feb 2025) EndedAt: 2025-02-10 00:44:48 -0500 (Mon, 10 Feb 2025) EllapsedTime: 37.9 seconds RetCode: 0 Status: OK PackageFile: BioNAR_1.9.1.tgz PackageFileSize: 4.089 MiB