Package: BioNAR Version: 1.9.1 Command: /Library/Frameworks/R.framework/Resources/bin/R CMD check --install=check:BioNAR.install-out.txt --library=/Library/Frameworks/R.framework/Resources/library --no-vignettes --timings BioNAR_1.9.1.tar.gz StartedAt: 2025-02-09 19:21:55 -0500 (Sun, 09 Feb 2025) EndedAt: 2025-02-09 19:32:51 -0500 (Sun, 09 Feb 2025) EllapsedTime: 655.2 seconds RetCode: 0 Status: OK CheckDir: BioNAR.Rcheck Warnings: 0