Package: BioNAR Version: 1.9.1 Command: /home/biocbuild/bbs-3.21-bioc/R/bin/R CMD build --keep-empty-dirs --no-resave-data BioNAR StartedAt: 2025-02-09 16:24:08 -0500 (Sun, 09 Feb 2025) EndedAt: 2025-02-09 16:26:28 -0500 (Sun, 09 Feb 2025) EllapsedTime: 139.1 seconds RetCode: 0 Status: OK PackageFile: BioNAR_1.9.1.tar.gz PackageFileSize: 3.548 MiB